BEGIN:VCALENDAR
VERSION:2.0
PRODID:-//RÍO de SABERES - ECPv6.15.20//NONSGML v1.0//EN
CALSCALE:GREGORIAN
METHOD:PUBLISH
X-ORIGINAL-URL:https://riodesaberes.org
X-WR-CALDESC:Eventos para RÍO de SABERES
REFRESH-INTERVAL;VALUE=DURATION:PT1H
X-Robots-Tag:noindex
X-PUBLISHED-TTL:PT1H
BEGIN:VTIMEZONE
TZID:UTC
BEGIN:STANDARD
TZOFFSETFROM:+0000
TZOFFSETTO:+0000
TZNAME:UTC
DTSTART:20240101T000000
END:STANDARD
END:VTIMEZONE
BEGIN:VEVENT
DTSTART;TZID=UTC:20250515T110000
DTEND;TZID=UTC:20250515T120000
DTSTAMP:20260423T103840
CREATED:20250517T005907Z
LAST-MODIFIED:20250521T215819Z
UID:2137-1747306800-1747310400@riodesaberes.org
SUMMARY:Sesión 1: Comunicación para la sostenibilidad-
DESCRIPTION:Facilita: Mapy Villalobos\nSesión 1: Cómo identificar audiencias clave para organizaciones de la sociedad civil.\nFecha: 15 de mayo\, 11:00 h (hora Centro). Duración 1 hora. \n\n  \n  \n 
URL:https://riodesaberes.org/event/modulo-ii-comunicacion-para-la-sostenibilidad/
ATTACH;FMTTYPE=image/jpeg:https://riodesaberes.org/wp-content/uploads/2025/04/ENA-D10761.jpg
END:VEVENT
END:VCALENDAR