BEGIN:VCALENDAR
VERSION:2.0
PRODID:-//RÍO de SABERES - ECPv6.15.20//NONSGML v1.0//EN
CALSCALE:GREGORIAN
METHOD:PUBLISH
X-WR-CALNAME:RÍO de SABERES
X-ORIGINAL-URL:https://riodesaberes.org
X-WR-CALDESC:Eventos para RÍO de SABERES
REFRESH-INTERVAL;VALUE=DURATION:PT1H
X-Robots-Tag:noindex
X-PUBLISHED-TTL:PT1H
BEGIN:VTIMEZONE
TZID:UTC
BEGIN:STANDARD
TZOFFSETFROM:+0000
TZOFFSETTO:+0000
TZNAME:UTC
DTSTART:20240101T000000
END:STANDARD
END:VTIMEZONE
BEGIN:VEVENT
DTSTART;TZID=UTC:20250521T110000
DTEND;TZID=UTC:20250521T130000
DTSTAMP:20260421T102359
CREATED:20250517T011233Z
LAST-MODIFIED:20250523T180522Z
UID:2145-1747825200-1747832400@riodesaberes.org
SUMMARY:Sesión 2: Órgano de gobierno en organizaciones de la sociedad civil
DESCRIPTION:Facilita: Regina De Angoitia\nSesión 2: Relación entre el órgano de gobierno y el equipo operativo de una organización.\nFecha: 21 de mayo\, 11:00 h (hora Centro). Duración 2 horas.\n\n  \n  \n  \n 
URL:https://riodesaberes.org/event/modulo-i-organo-de-gobierno-en-organizaciones-de-la-sociedad-civil-sesion-2/
ATTACH;FMTTYPE=image/jpeg:https://riodesaberes.org/wp-content/uploads/2025/04/ENA-D10210-scaled.jpg
END:VEVENT
END:VCALENDAR