BEGIN:VCALENDAR
VERSION:2.0
PRODID:-//RÍO de SABERES - ECPv6.15.20//NONSGML v1.0//EN
CALSCALE:GREGORIAN
METHOD:PUBLISH
X-ORIGINAL-URL:https://riodesaberes.org
X-WR-CALDESC:Eventos para RÍO de SABERES
REFRESH-INTERVAL;VALUE=DURATION:PT1H
X-Robots-Tag:noindex
X-PUBLISHED-TTL:PT1H
BEGIN:VTIMEZONE
TZID:UTC
BEGIN:STANDARD
TZOFFSETFROM:+0000
TZOFFSETTO:+0000
TZNAME:UTC
DTSTART:20240101T000000
END:STANDARD
END:VTIMEZONE
BEGIN:VEVENT
DTSTART;TZID=UTC:20250529T110000
DTEND;TZID=UTC:20250529T120000
DTSTAMP:20260421T082711
CREATED:20250517T011927Z
LAST-MODIFIED:20250521T212850Z
UID:2148-1748516400-1748520000@riodesaberes.org
SUMMARY:Sesión 2: Comunicación para la sostenibilidad
DESCRIPTION:Facilita: Mapy Villalobos\nSesión 2: Canales de comunicación de una organización de la sociedad civil (OSC) y la alineación con su audiencia.\nFecha: 29 de mayo\, 11:00 h (hora Centro). Duración 1 hora.\n\n  \n  \n 
URL:https://riodesaberes.org/event/modulo-ii-comunicacion-para-la-sostenibilidad-sesion-2/
ATTACH;FMTTYPE=image/jpeg:https://riodesaberes.org/wp-content/uploads/2025/04/IMG_2763-scaled.jpg
END:VEVENT
END:VCALENDAR