BEGIN:VCALENDAR
VERSION:2.0
PRODID:-//RÍO de SABERES - ECPv6.15.20//NONSGML v1.0//EN
CALSCALE:GREGORIAN
METHOD:PUBLISH
X-WR-CALNAME:RÍO de SABERES
X-ORIGINAL-URL:https://riodesaberes.org
X-WR-CALDESC:Eventos para RÍO de SABERES
REFRESH-INTERVAL;VALUE=DURATION:PT1H
X-Robots-Tag:noindex
X-PUBLISHED-TTL:PT1H
BEGIN:VTIMEZONE
TZID:UTC
BEGIN:STANDARD
TZOFFSETFROM:+0000
TZOFFSETTO:+0000
TZNAME:UTC
DTSTART:20240101T000000
END:STANDARD
END:VTIMEZONE
BEGIN:VEVENT
DTSTART;TZID=UTC:20250625T110000
DTEND;TZID=UTC:20250625T123000
DTSTAMP:20260421T082510
CREATED:20250517T012228Z
LAST-MODIFIED:20250521T213803Z
UID:2150-1750849200-1750854600@riodesaberes.org
SUMMARY:Sesión 3: Órgano de gobierno en organizaciones de la sociedad civil
DESCRIPTION:Facilita: Regina De Angoitia\nPanel de discusión: conocer la experiencia de otras organizaciones sobre cómo renovar y/o activar un órgano de gobierno.\nFecha: 25 de junio\, 11:00 h (hora Centro). Duración 1.5 horas.\n\n  \n 
URL:https://riodesaberes.org/event/modulo-i-organo-de-gobierno-en-organizaciones-de-la-sociedad-civil-sesion-3/
ATTACH;FMTTYPE=image/jpeg:https://riodesaberes.org/wp-content/uploads/2025/04/ENA-D10736.jpg
END:VEVENT
END:VCALENDAR