BEGIN:VCALENDAR
VERSION:2.0
PRODID:-//RÍO de SABERES - ECPv6.15.20//NONSGML v1.0//EN
CALSCALE:GREGORIAN
METHOD:PUBLISH
X-ORIGINAL-URL:https://riodesaberes.org
X-WR-CALDESC:Eventos para RÍO de SABERES
REFRESH-INTERVAL;VALUE=DURATION:PT1H
X-Robots-Tag:noindex
X-PUBLISHED-TTL:PT1H
BEGIN:VTIMEZONE
TZID:UTC
BEGIN:STANDARD
TZOFFSETFROM:+0000
TZOFFSETTO:+0000
TZNAME:UTC
DTSTART:20240101T000000
END:STANDARD
END:VTIMEZONE
BEGIN:VEVENT
DTSTART;TZID=UTC:20250626T110000
DTEND;TZID=UTC:20250626T120000
DTSTAMP:20260421T082708
CREATED:20250517T010446Z
LAST-MODIFIED:20250521T215148Z
UID:2142-1750935600-1750939200@riodesaberes.org
SUMMARY:Sesión 4: Comunicación para la sostenibilidad
DESCRIPTION:Facilita: Mapy Villalobos\nSesión 4: Tendencias actuales de la mercadotecnia social\nFecha: 25 de junio\, 11:00 h (hora Centro). Duración 1 hora.
URL:https://riodesaberes.org/event/modulo-ii-comunicacion-para-la-sostenibilidad-sesion-4/
ATTACH;FMTTYPE=image/jpeg:https://riodesaberes.org/wp-content/uploads/2025/05/ENA-D10187-scaled.jpg
END:VEVENT
BEGIN:VEVENT
DTSTART;TZID=UTC:20250626T130000
DTEND;TZID=UTC:20250626T140000
DTSTAMP:20260421T082708
CREATED:20250620T211513Z
LAST-MODIFIED:20250805T235437Z
UID:2405-1750942800-1750946400@riodesaberes.org
SUMMARY:Sesión informativa de la segunda convocatoria de fortalecimiento
DESCRIPTION:
URL:https://riodesaberes.org/event/sesion-informativa-de-la-segunda-convocatoria-de-fortalecimiento/
ATTACH;FMTTYPE=image/jpeg:https://riodesaberes.org/wp-content/uploads/2025/04/ENA-D10761.jpg
END:VEVENT
END:VCALENDAR